BEGIN:VCALENDAR
VERSION:2.0
PRODID:-//Tukios.com/
BEGIN:VEVENT
UID:dbfa892e-2640-45df-ae32-2e729b504af1@www.murrayfuneralhome.com
DTSTAMP:20260424T232014Z
DTSTART:20260427T150000Z
DTEND:20260427T160000Z
SUMMARY:Mass
DESCRIPTION:
URL:https://www.murrayfuneralhome.com/obituaries/kathryn-witaconis
LOCATION: 120 Allison Rd  Oreland PA 19075
GEO:40.11586;-75.185377
END:VEVENT
END:VCALENDAR