BEGIN:VCALENDAR
VERSION:2.0
PRODID:-//Tukios.com/
BEGIN:VEVENT
UID:49f4a776-757e-4d76-a061-129dff1b18a4@www.murrayfuneralhome.com
DTSTAMP:20260424T232014Z
DTSTART:20260427T133000Z
DTEND:20260427T150000Z
SUMMARY:Visitation
DESCRIPTION:
URL:https://www.murrayfuneralhome.com/obituaries/kathryn-witaconis
LOCATION: 120 Allison Rd  Oreland PA 19075
GEO:40.11586;-75.185377
END:VEVENT
END:VCALENDAR